BEGIN:VCALENDAR
VERSION:2.0
PRODID:-//ChamberMaster//Event Calendar 2.0//EN
METHOD:PUBLISH
X-PUBLISHED-TTL:P3D
REFRESH-INTERVAL:P3D
CALSCALE:GREGORIAN
BEGIN:VEVENT
DTSTART:20210607T180000Z
DTEND:20210607T180000Z
X-MICROSOFT-CDO-ALLDAYEVENT:FALSE
SUMMARY:1st Annual #KidsNeedKiwanis Charity Golf Tournament
DESCRIPTION:1st Annual #KidsNeedKiwanis Golf Tournament\n\n7:30am Shotgun Start\n\nThe Ranch Country Club in Westminster\n\n\n\nProceeds benefit the furnishing of common spaces at Anchor House\, an apartment complex for youth that are aging out of the foster care system\, and ongoing case management and mentorship support.\n\n\n\nJoin us as a single\, a foursome or Sponsor!
X-ALT-DESC;FMTTYPE=text/html:1st Annual #KidsNeedKiwanis Golf Tournament<br />\n7:30am Shotgun Start<br />\nThe Ranch Country Club in Westminster<br />\n<br />\nProceeds benefit the furnishing of common spaces at Anchor House\, an apartment complex for youth that are aging out of the foster care system\, and ongoing case management and mentorship support.<br />\n<br />\nJoin us as a single\, a foursome or Sponsor!
LOCATION:The Ranch Country Club 11887 Tejon Street Westminster\, Colorado
UID:e.641.16330
SEQUENCE:3
DTSTAMP:20260422T182102Z
URL:https://members.broomfieldchamber.com/events/details/1st-annual-kidsneedkiwanis-charity-golf-tournament-16330
END:VEVENT

END:VCALENDAR
