BEGIN:VCALENDAR
VERSION:2.0
PRODID:-//ChamberMaster//Event Calendar 2.0//EN
METHOD:PUBLISH
X-PUBLISHED-TTL:P3D
REFRESH-INTERVAL:P3D
CALSCALE:GREGORIAN
BEGIN:VEVENT
DTSTART:20251215T180000Z
DTEND:20251216T050000Z
X-MICROSOFT-CDO-ALLDAYEVENT:FALSE
SUMMARY:$5 Martinis & Margs at Bonefish Grill!
DESCRIPTION:Join us every Monday for $5 Signature Handcrafted Martinis and Margaritas!
X-ALT-DESC;FMTTYPE=text/html:Join us every Monday for $5 Signature Handcrafted Martinis and Margaritas!
LOCATION:Bonefish Grill 10438 Towncenter Drive Broomfield CO 80021
UID:e.641.28021
SEQUENCE:3
DTSTAMP:20260421T064759Z
URL:https://members.broomfieldchamber.com/events/details/5-martinis-margs-at-bonefish-grill-12-15-2025-28021
END:VEVENT

END:VCALENDAR
