BEGIN:VCALENDAR
VERSION:2.0
PRODID:-//ChamberMaster//Event Calendar 2.0//EN
METHOD:PUBLISH
X-PUBLISHED-TTL:P3D
REFRESH-INTERVAL:P3D
CALSCALE:GREGORIAN
BEGIN:VEVENT
DTSTART;VALUE=DATE:20260424
DTEND;VALUE=DATE:20260425
TRANSP:TRANSPARENT
X-MICROSOFT-CDO-ALLDAYEVENT:TRUE
SUMMARY:Abercrombie & Fitch Opens!
DESCRIPTION:Abercrombie & Fitch opens at FlatIron Crossing\, April 24\, on the lower level near Apple!
X-ALT-DESC;FMTTYPE=text/html:Abercrombie &amp\; Fitch opens at FlatIron Crossing\, April 24\, on the lower level near Apple!
LOCATION:FlatIron Crossing Mall
UID:e.641.28930
SEQUENCE:3
DTSTAMP:20260422T152747Z
URL:https://members.broomfieldchamber.com/events/details/abercrombie-fitch-opens-28930
END:VEVENT

END:VCALENDAR
