BEGIN:VCALENDAR
VERSION:2.0
PRODID:-//ChamberMaster//Event Calendar 2.0//EN
METHOD:PUBLISH
X-PUBLISHED-TTL:P3D
REFRESH-INTERVAL:P3D
CALSCALE:GREGORIAN
BEGIN:VEVENT
DTSTART:20180217T230000Z
DTEND:20180218T020000Z
X-MICROSOFT-CDO-ALLDAYEVENT:FALSE
SUMMARY:Beer and Chocolate Pairing!!!
DESCRIPTION:For The LOVE of Chocolate & Beer Tasting\n\nWhen: Saturday February 17th\, 2018\n\nTime: 4-7PM\n\nWhere: Wonderland Brewing Company\n\nPrice: $20 per person (Includes Brewery Tour)\n\nFor the LOVE of Chocolate and Beer\,\n\nSuprise that special someone with something extra after\n\nValentine's Day!\n\nCome join us For The LOVE of Chocolate and Beer Tasting!\n\nWonderland will pair Four Craft beers and four\n\namazing Chocolates from The Cacao Chemistry Company\n\nto provide you with an experience you will leave your sweetheart\n\nwanting more! This event will feature descriptive information\n\nfrom our brewers along with Cacao!\n\nCome release your endorphins with us!!\n\nCall or come in to Reserve your spot in advance!\n\nCall Robyn at 303-953-0100 ext 221\n\nwww.wonderlandbrewing.com\n\n5450 W. 120th Ave. Broomfield\, CO 80020
X-ALT-DESC;FMTTYPE=text/html:For The LOVE of Chocolate &amp\; Beer Tasting<br />\nWhen: Saturday February 17th\, 2018<br />\nTime: 4-7PM<br />\nWhere: Wonderland Brewing Company<br />\nPrice: $20 per person (Includes Brewery Tour)<br />\nFor the LOVE of Chocolate and Beer\,<br />\nSuprise that special someone with something extra after<br />\nValentine&rsquo\;s Day!<br />\nCome join us For The LOVE of Chocolate and Beer Tasting!<br />\nWonderland will pair Four Craft beers and four<br />\namazing Chocolates from The Cacao Chemistry Company<br />\nto provide you with an experience you will leave your sweetheart<br />\nwanting more! This event will feature descriptive information<br />\nfrom our brewers along with Cacao!<br />\nCome release your endorphins with us!!<br />\nCall or come in to Reserve your spot in advance!<br />\nCall Robyn at 303-953-0100 ext 221<br />\nwww.wonderlandbrewing.com<br />\n5450 W. 120th Ave. Broomfield\, CO 80020
LOCATION:Wonderland Brewing Company 5450 W. 120th Ave. Broomfield\, CO 80020
UID:e.641.11760
SEQUENCE:3
DTSTAMP:20260424T190819Z
URL:https://members.broomfieldchamber.com/events/details/beer-and-chocolate-pairing-11760
END:VEVENT

END:VCALENDAR
