BEGIN:VCALENDAR
VERSION:2.0
PRODID:-//ChamberMaster//Event Calendar 2.0//EN
METHOD:PUBLISH
X-PUBLISHED-TTL:P3D
REFRESH-INTERVAL:P3D
CALSCALE:GREGORIAN
BEGIN:VEVENT
DTSTART:20161015T180000Z
DTEND:20161015T230000Z
X-MICROSOFT-CDO-ALLDAYEVENT:FALSE
SUMMARY:BrewHaHa Arista
DESCRIPTION:The inaugural Broomfield BrewHaHa takes place on Saturday\, October 15\, 2016\; 12 noon to 5 p.m. at Arista Park on Arista Place. The festival will have two bands\, food trucks\, brews from Broomfield Breweries\, yard games\, and more.  Broomfield F.I.S.H. will be hosting a food drive during the event! If you bring a food donation\, you will get free day passes to Broomfield Recreation Centers!\n\n\n\nHYPE (Helping Young Professionals Evolve) is excited to have a booth at the event! We will have corn hole game and drawing for a chance to brewery swag! Stop by our booth to learn more about our new young professionals group\, HYPE\, and have some fun!  \n\n\n\nClick Here to Learn More About This Event!
X-ALT-DESC;FMTTYPE=text/html:The inaugural Broomfield BrewHaHa takes place on Saturday\, October 15\, 2016\; 12 noon to 5 p.m. at Arista Park on Arista Place. The festival will have two bands\, food trucks\, brews from Broomfield Breweries\, yard games\, and more. &nbsp\;Broomfield F.I.S.H. will be hosting a food drive during the event! If you bring a food donation\, you will get free day passes to Broomfield Recreation Centers!<br />\n<br />\nHYPE (Helping Young Professionals Evolve) is excited to have a booth at the&nbsp\;event! We will have corn hole game and drawing for a chance to brewery swag! Stop by our booth to learn more about our new young professionals group\, HYPE\, and have some fun!&nbsp\;&nbsp\;<br />\n<br />\n<span style="font-size:16px\;"><strong><a href="http://www.broomfield.org/BrewHaHa">Click Here to Learn More About This Event!&nbsp\;</a></strong></span>
LOCATION:Arista Park on Arista Place
UID:e.641.11052
SEQUENCE:3
DTSTAMP:20260425T174823Z
URL:https://members.broomfieldchamber.com/events/details/brewhaha-arista-11052
END:VEVENT

END:VCALENDAR
