BEGIN:VCALENDAR
VERSION:2.0
PRODID:-//ChamberMaster//Event Calendar 2.0//EN
METHOD:PUBLISH
X-PUBLISHED-TTL:P3D
REFRESH-INTERVAL:P3D
CALSCALE:GREGORIAN
BEGIN:VEVENT
DTSTART:20210425T200000Z
DTEND:20210426T030000Z
X-MICROSOFT-CDO-ALLDAYEVENT:FALSE
SUMMARY:Broomfield School of Rock Live at Boulder Theater
DESCRIPTION:Enjoy live music featuring some of the areas most talented young musicians\, performing at the incredible Boulder Theater! Schedule: 2:00pm Fleetwood Mac Tribute 3:30pm 2000's Indie Rock 5:00pm FUNK 6:30pm Tribute to The Police 8:00pm Van Halen Tribute Tickets available online from the Boulder Theater
X-ALT-DESC;FMTTYPE=text/html:Enjoy live music featuring some of the areas most talented young musicians\, performing at the incredible Boulder Theater! Schedule: 2:00pm Fleetwood Mac Tribute 3:30pm 2000&#39\;s Indie Rock 5:00pm FUNK 6:30pm Tribute to The Police 8:00pm Van Halen Tribute Tickets available online from the Boulder Theater
LOCATION:Boulder Theater 2032 14th St. Boulder CO
UID:e.641.16344
SEQUENCE:3
DTSTAMP:20260422T134425Z
URL:https://members.broomfieldchamber.com/events/details/broomfield-school-of-rock-live-at-boulder-theater-16344
END:VEVENT

END:VCALENDAR
