BEGIN:VCALENDAR
VERSION:2.0
PRODID:-//ChamberMaster//Event Calendar 2.0//EN
METHOD:PUBLISH
X-PUBLISHED-TTL:P3D
REFRESH-INTERVAL:P3D
CALSCALE:GREGORIAN
BEGIN:VEVENT
DTSTART:20210424T200000Z
DTEND:20210424T230000Z
X-MICROSOFT-CDO-ALLDAYEVENT:FALSE
SUMMARY:Broomfield School of Rock Live at Brighton Armory
DESCRIPTION:Enjoy live music featuring some of the areas most talented young musicians\, performing at the gorgeous Armory Performing Arts Center in Brighton! Schedule: 2pm Synth Pop 3:30pm Van Halen Tribute Tickets available directly from Broomfield School of Rock - call 303-325-3772\, email broomfield@schoolofrock.com or stop in for tickets!
X-ALT-DESC;FMTTYPE=text/html:Enjoy live music featuring some of the areas most talented young musicians\, performing at the gorgeous Armory Performing Arts Center in Brighton! Schedule: 2pm Synth Pop 3:30pm Van Halen Tribute Tickets available directly from Broomfield School of Rock - call 303-325-3772\, email broomfield@schoolofrock.com or stop in for tickets!
LOCATION:Armory Performing Arts Center 300 Strong St. Brighton CO 80601
UID:e.641.16343
SEQUENCE:3
DTSTAMP:20260422T134414Z
URL:https://members.broomfieldchamber.com/events/details/broomfield-school-of-rock-live-at-brighton-armory-16343
END:VEVENT

END:VCALENDAR
