BEGIN:VCALENDAR
VERSION:2.0
PRODID:-//ChamberMaster//Event Calendar 2.0//EN
METHOD:PUBLISH
X-PUBLISHED-TTL:P3D
REFRESH-INTERVAL:P3D
CALSCALE:GREGORIAN
BEGIN:VEVENT
DTSTART:20180425T133000Z
DTEND:20180425T150000Z
X-MICROSOFT-CDO-ALLDAYEVENT:FALSE
SUMMARY:Broomfield Transportation Matters Town Hall
DESCRIPTION:The Transportation Matters Transportation Town Halls provide a forum for all sectors to come together to discuss local and regional transportation projects that matter most to their business. The town hall will provide a brief presentation highlighting the transportation funding gap and projects currently on a draft project list for the northwest metro region. After the brief presentation\, town hall attendees will have the opportunity to provide input to local and regional projects that impact their business.
X-ALT-DESC;FMTTYPE=text/html:The Transportation Matters Transportation Town Halls provide a forum for all sectors to come together to discuss local and regional transportation projects that matter most to their business. The town hall will provide a brief presentation highlighting the transportation funding gap and projects currently on a draft project list for the northwest metro region. After the brief presentation\, town hall attendees will have the opportunity to provide input to local and regional projects that impact their business.
LOCATION:Broomfield Auditorium
UID:e.641.12796
SEQUENCE:3
DTSTAMP:20260424T161843Z
URL:https://members.broomfieldchamber.com/events/details/broomfield-transportation-matters-town-hall-12796
END:VEVENT

END:VCALENDAR
