BEGIN:VCALENDAR
VERSION:2.0
PRODID:-//ChamberMaster//Event Calendar 2.0//EN
METHOD:PUBLISH
X-PUBLISHED-TTL:P3D
REFRESH-INTERVAL:P3D
CALSCALE:GREGORIAN
BEGIN:VEVENT
DTSTART;VALUE=DATE:19980409
DTEND;VALUE=DATE:19980410
TRANSP:TRANSPARENT
X-MICROSOFT-CDO-ALLDAYEVENT:TRUE
SUMMARY:Business Before Hours at FlatIron Crossing
DESCRIPTION:
X-ALT-DESC;FMTTYPE=text/html:
LOCATION:Good News Community Church
UID:e.641.268
SEQUENCE:3
DTSTAMP:20260423T114331Z
URL:https://members.broomfieldchamber.com/events/details/business-before-hours-at-flatiron-crossing-04-09-1998-268
END:VEVENT

END:VCALENDAR
