BEGIN:VCALENDAR
VERSION:2.0
PRODID:-//ChamberMaster//Event Calendar 2.0//EN
METHOD:PUBLISH
X-PUBLISHED-TTL:P3D
REFRESH-INTERVAL:P3D
CALSCALE:GREGORIAN
BEGIN:VEVENT
DTSTART:20171229T190000Z
DTEND:20171229T233000Z
X-MICROSOFT-CDO-ALLDAYEVENT:FALSE
SUMMARY:Chamber Office Closed - Happy New Year!
DESCRIPTION:In observance of the holiday\, the Chamber office will be closed beginning at noon on Friday\, December 29th and will reopen at 8:00am on Tuesday\, January 2nd.  Here's to a prosperous year in 2018!  Happy New Year!
X-ALT-DESC;FMTTYPE=text/html:In observance of the holiday\, the Chamber office will be closed beginning at noon on Friday\, December&nbsp\;29th&nbsp\;and will reopen at 8:00am&nbsp\;on Tuesday\, January 2nd.&nbsp\; Here&#39\;s to a prosperous year in 2018!&nbsp\; Happy New Year! &nbsp\;&nbsp\;
LOCATION:
UID:e.641.11700
SEQUENCE:3
DTSTAMP:20260424T215824Z
URL:https://members.broomfieldchamber.com/events/details/chamber-office-closed-happy-new-year-11700
END:VEVENT

END:VCALENDAR
