BEGIN:VCALENDAR
VERSION:2.0
PRODID:-//ChamberMaster//Event Calendar 2.0//EN
METHOD:PUBLISH
X-PUBLISHED-TTL:P3D
REFRESH-INTERVAL:P3D
CALSCALE:GREGORIAN
BEGIN:VEVENT
DTSTART;VALUE=DATE:20171115
DTEND;VALUE=DATE:20171116
TRANSP:TRANSPARENT
X-MICROSOFT-CDO-ALLDAYEVENT:TRUE
SUMMARY:Chamber Office NOT Staffed
DESCRIPTION:Tammy will be out of the office from November 23 - December 5 for vacation and unavailable to respond to calls\, texts or emails.  Sam will be out of the office all day on November 28th\, but will be answering emails and texts.  He can be reached by cell at 303-931-6477.
X-ALT-DESC;FMTTYPE=text/html:Tammy will be out of the office from November 23 - December 5 for vacation and unavailable to respond to calls\, texts or emails.&nbsp\; Sam will be out of the office all day on November 28th\, but will be answering emails and texts.&nbsp\; He can be reached by cell at 303-931-6477.
LOCATION:105 Edgeview Drive\, #410 Broomfield\, CO 80021
UID:e.641.11673
SEQUENCE:3
DTSTAMP:20260424T231104Z
URL:https://members.broomfieldchamber.com/events/details/chamber-office-not-staffed-11673
END:VEVENT

END:VCALENDAR
