BEGIN:VCALENDAR
VERSION:2.0
PRODID:-//ChamberMaster//Event Calendar 2.0//EN
METHOD:PUBLISH
X-PUBLISHED-TTL:P3D
REFRESH-INTERVAL:P3D
CALSCALE:GREGORIAN
BEGIN:VEVENT
DTSTART;VALUE=DATE:20171128
DTEND;VALUE=DATE:20171129
TRANSP:TRANSPARENT
X-MICROSOFT-CDO-ALLDAYEVENT:TRUE
SUMMARY:Chamber Office NOT Staffed
DESCRIPTION:Tammy will be out of the office from November 23 - December 5 and will not be available to take calls or answer emails.  Sam will be out of the office all day on November 28th\, but will be answering texts and emails and will be available by cell at 303-931-6477.
X-ALT-DESC;FMTTYPE=text/html:Tammy will be out of the office from November 23 - December 5 and will not be available to take calls or answer emails.&nbsp\; Sam will be out of the office all day on November 28th\, but will be answering texts and emails and will be available by cell at 303-931-6477.
LOCATION:105 Edgeview Drive\, #410 Broomfield\, CO 80021
UID:e.641.11674
SEQUENCE:3
DTSTAMP:20260424T231022Z
URL:https://members.broomfieldchamber.com/events/details/chamber-office-not-staffed-11674
END:VEVENT

END:VCALENDAR
