BEGIN:VCALENDAR
VERSION:2.0
PRODID:-//ChamberMaster//Event Calendar 2.0//EN
METHOD:PUBLISH
X-PUBLISHED-TTL:P3D
REFRESH-INTERVAL:P3D
CALSCALE:GREGORIAN
BEGIN:VEVENT
DTSTART:20210324T230000Z
DTEND:20210325T020000Z
X-MICROSOFT-CDO-ALLDAYEVENT:FALSE
SUMMARY:Chamber Topgolf Tournament
DESCRIPTION:The Broomfield Chamber is excited to host its inaugural golf tournament at Chamber Member Topgolf Thornton. Topgolf's unique playing style and scoring system make it an exciting and fun event experienced golfers and beginners alike.  \n\n\n\nTHIS EVENT IS LIMITED TO 75 PLAYERS - SO REGISTER TODAY.\n\nAlso\, if you register by 5pm on February 22\, you get $25 off your registration fee!\n\n\n\nEach ticket includes 3 hours of golf play\, including tournament play\, a free buffet\, free non-alcoholic beverages and two free beer/wine tickets\, and a chance to win $10\,000 in a Hole-In-One Tournament. Prizes will be awarded for first\, second and third place in tournament play. \n\n\n\nYour ticket cost helps support the Broomfield Chamber and its mission to support and advocate for local businesses.\n\n\n\nA Few Notes: Tournament play is individual\, not team play. However\, we will try to honor requests of players to group together in bays. Maximum six players per bay\, and requests will be honored on a first-come\, first-served basis as space allows. Players requesting to be grouped together must all be registered before groupings can be honored. Please send grouping requests to Pat Monacelli at the Chamber.\n\n\n\nDue to current COVID-19 restrictions\, we are not able to sell spectator tickets to this event. All attendees must purchase a players ticket. Thank you for understanding.
X-ALT-DESC;FMTTYPE=text/html:<div id="i4c-draggable-container" style="position: fixed\; z-index: 1499\; width: 0px\; height: 0px\;">\n<div class="resolved" data-reactroot="" style="all: initial\;">&nbsp\;</div>\n</div>\n<span style="font-size:14px\;"><span style="font-family:arial\;">The Broomfield Chamber is excited to host its inaugural golf tournament at Chamber Member Topgolf Thornton. Topgolf&rsquo\;s unique playing style and scoring system make it an exciting and fun event experienced golfers and beginners alike.&nbsp\;&nbsp\;<br />\n<br />\n<span style="color:#FF0000\;"><span style="font-size:16px\;">THIS EVENT IS LIMITED TO<strong> 75 PLAYERS</strong> - SO REGISTER TODAY.</span></span><br />\nAlso\, if you register by 5pm on February 22\, you get $25 off your registration fee!<br />\n<br />\nEach ticket includes 3 hours of golf play\, including tournament play\, a free buffet\, free non-alcoholic beverages and two free beer/wine tickets\, and a chance to win $10\,000 in a Hole-In-One Tournament.&nbsp\;</span></span><span style="font-family: arial\; font-size: 14px\;">Prizes will be awarded for first\, second and third place in tournament play.&nbsp\;</span><br />\n<br />\n<span style="font-size:14px\;"><span style="font-family:arial\;">Your ticket cost helps support the Broomfield Chamber and its mission to support and advocate for local businesses.<br />\n<br />\n<strong><span style="color:#008000\;">A Few Notes:</span></strong> Tournament play is individual\, not team play. However\, we will try to honor requests of players to group together in bays. Maximum six players per bay\, and requests will be honored on a first-come\, first-served basis as space allows. Players requesting to be grouped together must all be registered before groupings can be honored. Please send grouping requests to<a href="mailto:patrick.monacelli@broomfieldchamber.com"> Pat Monacelli </a>at the Chamber.<br />\n<br />\nDue to current COVID-19 restrictions\, we are not able to sell spectator tickets to this event. All attendees must purchase a players ticket. Thank you for understanding.&nbsp\;</span></span><br />\n<br />\n<br />\n&nbsp\;\n<div id="i4c-dialogs-container">&nbsp\;</div>\n
LOCATION:Topgolf Thornton 16011 Grant St. Thornton\, CO 80023
UID:e.641.16293
SEQUENCE:3
DTSTAMP:20260422T120117Z
URL:https://members.broomfieldchamber.com/events/details/chamber-topgolf-tournament-16293
END:VEVENT

END:VCALENDAR
