BEGIN:VCALENDAR
VERSION:2.0
PRODID:-//ChamberMaster//Event Calendar 2.0//EN
METHOD:PUBLISH
X-PUBLISHED-TTL:P3D
REFRESH-INTERVAL:P3D
CALSCALE:GREGORIAN
BEGIN:VEVENT
DTSTART:20210730T003000Z
DTEND:20210730T020000Z
X-MICROSOFT-CDO-ALLDAYEVENT:FALSE
SUMMARY:Child Care Industry Networking Hour - Virtual
DESCRIPTION:When: Jul 29\, 2021 06:30 PM Mountain Time (US and Canada) \n\n\n\nRegister in advance for this meeting:\n\nhttps://us02web.zoom.us/meeting/register/tZcrd--rpj8qHNNP5_fLypMZ_W6a5mlrxQXc \n\n\n\nAfter registering\, you will receive a confirmation email containing information about joining the meeting.
X-ALT-DESC;FMTTYPE=text/html:When: Jul 29\, 2021 06:30 PM Mountain Time (US and Canada)&nbsp\;<br />\n<br />\nRegister in advance for this meeting:<br />\nhttps://us02web.zoom.us/meeting/register/tZcrd--rpj8qHNNP5_fLypMZ_W6a5mlrxQXc&nbsp\;<br />\n<br />\nAfter registering\, you will receive a confirmation email containing information about joining the meeting.
LOCATION:Zoom
UID:e.641.17247
SEQUENCE:3
DTSTAMP:20260422T183027Z
URL:https://members.broomfieldchamber.com/events/details/child-care-industry-networking-hour-virtual-17247
END:VEVENT

END:VCALENDAR
