BEGIN:VCALENDAR
VERSION:2.0
PRODID:-//ChamberMaster//Event Calendar 2.0//EN
METHOD:PUBLISH
X-PUBLISHED-TTL:P3D
REFRESH-INTERVAL:P3D
CALSCALE:GREGORIAN
BEGIN:VEVENT
DTSTART:20180418T220000Z
DTEND:20180419T030000Z
X-MICROSOFT-CDO-ALLDAYEVENT:FALSE
SUMMARY:Dine To Donate
DESCRIPTION:Join us for the First Annual Philanthropy Cup. Broomfield High's Honor Society squares off against Legacy's Honor Society to see who can raise the most money for FRIENDS by hosting a benefit night at Noodles & Company. Noodles has generously agreed to donate 25% of all sales when you mention FRIENDS of Broomfield\, Inc. Broomfield High School supporters eat at Noodles & Company (1100 HWY 287 at Miramonte) Legacy High School supporters eat at Noodles & Company (4530 W. 121st Ave) Undecided\, but want to support FRIENDS? Mention FRIENDS when ordering at either Noodles & CO listed above. Hope to see you all there!!!!
X-ALT-DESC;FMTTYPE=text/html:Join us for the First Annual Philanthropy Cup. Broomfield High&#39\;s Honor Society squares off against Legacy&#39\;s Honor Society to see who can raise the most money for FRIENDS by hosting a benefit night at Noodles &amp\; Company. Noodles has generously agreed to donate 25% of all sales when you mention FRIENDS of Broomfield\, Inc. Broomfield High School supporters eat at Noodles &amp\; Company (1100 HWY 287 at Miramonte) Legacy High School supporters eat at Noodles &amp\; Company (4530 W. 121st Ave) Undecided\, but want to support FRIENDS? Mention FRIENDS when ordering at either Noodles &amp\; CO listed above. Hope to see you all there!!!!
LOCATION:Noodles & Company (1100 HWY 287 at Miramonte) Noodles & Company (4530 W. 121st Ave)
UID:e.641.11777
SEQUENCE:3
DTSTAMP:20260424T161713Z
URL:https://members.broomfieldchamber.com/events/details/dine-to-donate-11777
END:VEVENT

END:VCALENDAR
