BEGIN:VCALENDAR
VERSION:2.0
PRODID:-//ChamberMaster//Event Calendar 2.0//EN
METHOD:PUBLISH
X-PUBLISHED-TTL:P3D
REFRESH-INTERVAL:P3D
CALSCALE:GREGORIAN
BEGIN:VEVENT
DTSTART:20260404T150000Z
DTEND:20260404T230000Z
X-MICROSOFT-CDO-ALLDAYEVENT:FALSE
SUMMARY:Día del Niño Celebration
DESCRIPTION:Butterfly Pavilion partners with the Mexican Cultural Center (MCC) for a full-day celebration of D a del Ni o (Day of the Child) on Saturday\, April 4. This family-friendly event represents the imagination and energy children bring to their cultures\, communities\, and the world through an invertebrate lens. Event Highlights: Live Entertainment: Enjoy performances featuring traditional dances\, lively music\, and a vibrant mariachi band. Games: Play a traditional Mexican game of Loter a with an invertebrate twist or test your knowledge with life-cycle trivia\, matching baby invertebrates to their adult forms. Crafts: Design and create a pi ata\, a bouquet\, or a milagritos charm\, making a wish after it is complete. Programs: Learn about the world of edible insects and taste a bug\, watch newly emerged butterflies take their first flight\, attend Spanish story time\, and more! D a del Ni o is a beloved holiday with cultural roots in Latin America and strong associations with celebrations in Mexico. D a del Ni o is a widely celebrated cultural tradition that honors children\, families\, and the joy of learning. D a del Ni o uplifts children and bridges cultures by creating spaces where curiosity\, creativity\, and togetherness are at the center. Additionally\, the day inspires intergenerational connection as elders pass down traditions\; educators introduce children to cultural symbols\, heritage\, and language\, and families join and strengthen community bonds. Butterfly Pavilion aspires to celebrate D a del Ni o by bringing people of all ages\, experiences\, and cultures together. The celebration will be hosted at the invertebrate zoo\, with activities and programs offered in English and Spanish\, where everyone is invited to learn\, play\, and connect with their child-like awe. The holiday acts as a bridge in multicultural communities through centering children and recognizing them not only as future culture-bearers but also as the vitality of many communities. Families can collectively participate in event festivities inspired by cultural traditions and new learning opportunities to exchange cultures\, promote inclusion\, and encounter invertebrates up close. "D a del Ni o Celebration Day is supported by the Innovation and Collaboration Grant from The Collaborative of the SCFD a nonprofit membership organization comprised of SCFD-funded arts\, culture\, and science nonprofits. The Collaborative established the Innovation and Collaboration Incubator Grant to foster cross-organizational partnerships that develop innovative\, dynamic programs serving communities across Adams\, Arapahoe\, Boulder\, Broomfield\, Denver\, Jefferson\, and Douglas Counties."
X-ALT-DESC;FMTTYPE=text/html:Butterfly Pavilion partners with the Mexican Cultural Center (MCC) for a full-day celebration of D&iacute\;a del Ni&ntilde\;o (Day of the Child) on Saturday\, April 4. This family-friendly event represents the imagination and energy children bring to their cultures\, communities\, and the world through an invertebrate lens. Event Highlights: Live Entertainment: Enjoy performances featuring traditional dances\, lively music\, and a vibrant mariachi band. Games: Play a traditional Mexican game of Loter&iacute\;a with an invertebrate twist or test your knowledge with life-cycle trivia\, matching baby invertebrates to their adult forms. Crafts: Design and create a pi&ntilde\;ata\, a bouquet\, or a milagritos charm\, making a wish after it is complete. Programs: Learn about the world of edible insects and taste a bug\, watch newly emerged butterflies take their first flight\, attend Spanish story time\, and more! D&iacute\;a del Ni&ntilde\;o is a beloved holiday with cultural roots in Latin America and strong associations with celebrations in Mexico. D&iacute\;a del Ni&ntilde\;o is a widely celebrated cultural tradition that honors children\, families\, and the joy of learning. D&iacute\;a del Ni&ntilde\;o uplifts children and bridges cultures by creating spaces where curiosity\, creativity\, and togetherness are at the center. Additionally\, the day inspires intergenerational connection as elders pass down traditions\; educators introduce children to cultural symbols\, heritage\, and language\, and families join and strengthen community bonds. Butterfly Pavilion aspires to celebrate D&iacute\;a del Ni&ntilde\;o by bringing people of all ages\, experiences\, and cultures together. The celebration will be hosted at the invertebrate zoo\, with activities and programs offered in English and Spanish\, where everyone is invited to learn\, play\, and connect with their child-like awe. The holiday acts as a bridge in multicultural communities through centering children and recognizing them not only as future culture-bearers but also as the vitality of many communities. Families can collectively participate in event festivities inspired by cultural traditions and new learning opportunities to exchange cultures\, promote inclusion\, and encounter invertebrates up close. &ldquo\;D&iacute\;a del Ni&ntilde\;o Celebration Day is supported by the Innovation and Collaboration Grant from The Collaborative of the SCFD&mdash\;a nonprofit membership organization comprised of SCFD-funded arts\, culture\, and science nonprofits. The Collaborative established the Innovation and Collaboration Incubator Grant to foster cross-organizational partnerships that develop innovative\, dynamic programs serving communities across Adams\, Arapahoe\, Boulder\, Broomfield\, Denver\, Jefferson\, and Douglas Counties.&rdquo\;
LOCATION:Butterfly Pavilion 6252 West 104th Avenue Westminster\, Colorado 80020
UID:e.641.28935
SEQUENCE:3
DTSTAMP:20260422T152740Z
URL:https://members.broomfieldchamber.com/events/details/d&#237;a-del-ni&#241;o-celebration-28935
END:VEVENT

END:VCALENDAR
