BEGIN:VCALENDAR
VERSION:2.0
PRODID:-//ChamberMaster//Event Calendar 2.0//EN
METHOD:PUBLISH
X-PUBLISHED-TTL:P3D
REFRESH-INTERVAL:P3D
CALSCALE:GREGORIAN
BEGIN:VEVENT
DTSTART:20260418T190000Z
DTEND:20260418T220000Z
X-MICROSOFT-CDO-ALLDAYEVENT:FALSE
SUMMARY:Earth Day Celebration
DESCRIPTION:Discover\, learn and take action for a greener future at the Broomfield Earth Day Celebration bring your friends\, family and neighbors to participate in eco-themed activities for all ages such as: Community seed swap Bike repair station Electric vehicle (EV) showcase Garden tool swap Kids' Activities Community and CCOB organizations tabling
X-ALT-DESC;FMTTYPE=text/html:Discover\, learn and take action for a greener future at the Broomfield Earth Day Celebration&mdash\;bring your friends\, family and neighbors to participate in eco-themed activities for all ages such as: Community seed swap Bike repair station Electric vehicle (EV) showcase Garden tool swap Kids&rsquo\; Activities Community and CCOB organizations tabling
LOCATION:Paul Derda Recreation Center 1301 Lowell Blvd
UID:e.641.28932
SEQUENCE:3
DTSTAMP:20260422T152829Z
URL:https://members.broomfieldchamber.com/events/details/earth-day-celebration-04-18-2026-28932
END:VEVENT

END:VCALENDAR
