BEGIN:VCALENDAR
VERSION:2.0
PRODID:-//ChamberMaster//Event Calendar 2.0//EN
METHOD:PUBLISH
X-PUBLISHED-TTL:P3D
REFRESH-INTERVAL:P3D
CALSCALE:GREGORIAN
BEGIN:VEVENT
DTSTART:20250505T170000Z
DTEND:20250505T180000Z
X-MICROSOFT-CDO-ALLDAYEVENT:FALSE
SUMMARY:Empower Your Team: Leveraging Colorado SecureSavings and Policy Compliance
DESCRIPTION:Recent legislation requires Colorado businesses that meet certain criteria to provide employees with a retirement program. Anthony Baker with the Colorado Department of the Treasury\, will provide an overview of Colorado SecureSavings which is a FREE\, state-run retirement savings program. The program is easy to facilitate and empowers businesses by increasing retention rates and helping employees reach long-term financial wellness.
X-ALT-DESC;FMTTYPE=text/html:Recent legislation requires Colorado businesses that meet certain criteria to provide employees with a retirement program. Anthony Baker with the Colorado Department of the Treasury\, will provide an overview of Colorado SecureSavings which is a FREE\, state-run retirement savings program. The program is easy to facilitate and empowers businesses by increasing retention rates and helping employees reach long-term financial wellness.
LOCATION:virtual
UID:e.641.25470
SEQUENCE:3
DTSTAMP:20260421T174856Z
URL:https://members.broomfieldchamber.com/events/details/empower-your-team-leveraging-colorado-securesavings-and-policy-compliance-25470
END:VEVENT

END:VCALENDAR
