BEGIN:VCALENDAR
VERSION:2.0
PRODID:-//ChamberMaster//Event Calendar 2.0//EN
METHOD:PUBLISH
X-PUBLISHED-TTL:P3D
REFRESH-INTERVAL:P3D
CALSCALE:GREGORIAN
BEGIN:VEVENT
DTSTART:20170825T220000Z
DTEND:20170826T000000Z
X-MICROSOFT-CDO-ALLDAYEVENT:FALSE
SUMMARY:F.A.C. (Friday Afternoon Club)
DESCRIPTION:F.A.C. is a casual networking event for all industries! Whether you are looking to connect with new businesses or network with individuals in the community\, this event is for you. We meet the last Friday of every month at various locations. The event is free and beverages are available for purchase. We hope to see you there!
X-ALT-DESC;FMTTYPE=text/html:F.A.C. is a casual networking event for all industries! Whether you are looking to connect with new businesses or network with individuals in the community\, this event is for you. We meet the last Friday of every month at various locations. The event is free and beverages are available for purchase. We hope to see you there!
LOCATION:Kokopelli Beer Company 8931 Harlan Street Westminster\, CO 80031
UID:e.641.11644
SEQUENCE:3
DTSTAMP:20260425T033522Z
URL:https://members.broomfieldchamber.com/events/details/f-a-c-friday-afternoon-club-11644
END:VEVENT

END:VCALENDAR
