BEGIN:VCALENDAR
VERSION:2.0
PRODID:-//ChamberMaster//Event Calendar 2.0//EN
METHOD:PUBLISH
X-PUBLISHED-TTL:P3D
REFRESH-INTERVAL:P3D
CALSCALE:GREGORIAN
BEGIN:VEVENT
DTSTART:20180222T000000Z
DTEND:20180222T023000Z
X-MICROSOFT-CDO-ALLDAYEVENT:FALSE
SUMMARY:February Business After Hours
DESCRIPTION:February Business After Hours\n\nsponsored and hosted by Spectrum Land Company\n\n\n\nSpectrum Land Company and its principals have offered quality property management\, development\, and construction services to Colorado front range communities for over 25 years. Their expert team of industry professionals take great pride in crafting customized solutions to meet any real estate needs.
X-ALT-DESC;FMTTYPE=text/html:<span style="color:#000000\;"><strong><span style="font-size:18px\;">February Business After Hours<br />\nsponsored and&nbsp\;hosted by Spectrum Land Company</span></strong></span><br />\n<br />\n<span style="color: rgb(39\, 44\, 55)\; font-family: Arial\, Verdana\, Helvetica\, sans-serif\; font-size: 12px\; font-style: italic\; font-weight: 700\; white-space: pre-wrap\;">Spectrum Land Company and its principals have offered quality property management\, development\, and construction services to Colorado front range communities for over 25 years. Their expert team of industry professionals take great pride in crafting customized solutions to meet any real estate needs. </span>
LOCATION:26 Garden Center Broomfield\, CO
UID:e.641.11751
SEQUENCE:3
DTSTAMP:20260424T190943Z
URL:https://members.broomfieldchamber.com/events/details/february-business-after-hours-11751
END:VEVENT

END:VCALENDAR
