BEGIN:VCALENDAR
VERSION:2.0
PRODID:-//ChamberMaster//Event Calendar 2.0//EN
METHOD:PUBLISH
X-PUBLISHED-TTL:P3D
REFRESH-INTERVAL:P3D
CALSCALE:GREGORIAN
BEGIN:VEVENT
DTSTART:20210717T180000Z
DTEND:20210717T210000Z
X-MICROSOFT-CDO-ALLDAYEVENT:FALSE
SUMMARY:FRIENDS Crawfish Boil
DESCRIPTION:FRIENDS' Young Professional Board\, BeFRIEND\, is putting on their 4th Annual Crawfish Boil to raise funds for FRIENDS programs. We can't thank BLUE Federal Credit Union and Big Mac and Little Lu's enough for making this event possible. Join us for a fun afternoon of live music\, good eats\, and bottomless libations! Purchase drawing tickets for a chance to win an All You Can Eat and Drink Dinner for Four at Big Mac and Little Lu's ( you don't need to present to win).
X-ALT-DESC;FMTTYPE=text/html:FRIENDS&#39\; Young Professional Board\, BeFRIEND\, is putting on their 4th Annual Crawfish Boil to raise funds for FRIENDS programs. We can&#39\;t thank BLUE Federal Credit Union and Big Mac and Little Lu&#39\;s enough for making this event possible. Join us for a fun afternoon of live music\, good eats\, and bottomless libations! Purchase drawing tickets for a chance to win an All You Can Eat and Drink Dinner for Four at Big Mac and Little Lu&#39\;s ( you don&#39\;t need to present to win).
LOCATION:Big Mac and Little Lu's
UID:e.641.16822
SEQUENCE:3
DTSTAMP:20260422T201420Z
URL:https://members.broomfieldchamber.com/events/details/friends-crawfish-boil-07-17-2021-16822
END:VEVENT

END:VCALENDAR
