BEGIN:VCALENDAR
VERSION:2.0
PRODID:-//ChamberMaster//Event Calendar 2.0//EN
METHOD:PUBLISH
X-PUBLISHED-TTL:P3D
REFRESH-INTERVAL:P3D
CALSCALE:GREGORIAN
BEGIN:VEVENT
DTSTART:20160629T233000Z
DTEND:20160630T013000Z
X-MICROSOFT-CDO-ALLDAYEVENT:FALSE
SUMMARY:HYPE After Hours
DESCRIPTION:The Broomfield Chamber of Commerce is starting a new Young Professionals Group called HYPE (Helping Young Professionals Evolve). The group will focus on business education\, mentoring\, networking\, and helping local non profit organizations. The group is  for young professionals ages 21 - 39 in the Broomfield and surrounding area. HYPE will be open to Chamber members and non members alike. Events will have different member and non member rates depending on the event.\n\n\n\nAs part of the Northwest Chamber Alliance all three young professionals groups from Boulder Chamber\, Longmont Chamber and our HYPE group will be getting together to network in a fun and relaxing atmosphere.  There will be live music and a food truck. Event is free\, but please register above to have a printed name tag!
X-ALT-DESC;FMTTYPE=text/html:<span style="color: rgb(94\, 42\, 43)\; font-family: Arial\; font-size: 14.6667px\; line-height: normal\; text-align: center\;">The Broomfield Chamber of Commerce is starting a new Young Professionals Group called&nbsp\;<span class="il">HYPE</span>&nbsp\;(Helping Young Professionals Evolve). The group will focus on business education\, mentoring\, networking\, and helping local non profit organizations. The group is &nbsp\;for young professionals ages 21 - 39 in the Broomfield and&nbsp\;surrounding&nbsp\;area.&nbsp\;<span class="il">HYPE</span>&nbsp\;will be open to Chamber members and non members alike. Events will have different member and non member rates depending on the event.<br />\n<br />\nAs part of the Northwest Chamber Alliance all three young professionals groups from Boulder Chamber\, Longmont Chamber and our HYPE group will be getting together to network in a fun and relaxing&nbsp\;atmosphere.&nbsp\;&nbsp\;There will be live music and a food truck. Event is free\, but please register above to have a printed name tag!&nbsp\;</span>
LOCATION:Wibby Brewing 206 Emery Street Longmont\, CO 80501
UID:e.641.10966
SEQUENCE:3
DTSTAMP:20260425T224958Z
URL:https://members.broomfieldchamber.com/events/details/hype-after-hours-06-29-2016-10966
END:VEVENT

END:VCALENDAR
