BEGIN:VCALENDAR
VERSION:2.0
PRODID:-//ChamberMaster//Event Calendar 2.0//EN
METHOD:PUBLISH
X-PUBLISHED-TTL:P3D
REFRESH-INTERVAL:P3D
CALSCALE:GREGORIAN
BEGIN:VEVENT
DTSTART:20170209T233000Z
DTEND:20170210T013000Z
X-MICROSOFT-CDO-ALLDAYEVENT:FALSE
SUMMARY:HYPE After Hours - A Young Professionals Group
DESCRIPTION:The Broomfield Chamber of Commerce is starting a new Young Professionals Group called HYPE (Helping Young Professionals Evolve). The group will focus on business education\, mentoring\, networking\, and helping local non profit organizations. The group is  for young professionals ages 21 - 39 in the Broomfield and surrounding area. HYPE will be open to Chamber members and non members alike. Join us Thursday\, February 9th at Emilio's Almost Famous for a drink and to expand your network with other local young professionals. Price includes one drink ticket! Chamber members and non-members are welcome! Please register above!
X-ALT-DESC;FMTTYPE=text/html:<span style="box-sizing: content-box\; margin: 0px\; padding: 0px\; border: none\; font-variant-numeric: inherit\; font-stretch: inherit\; font-size: 14.6667px\; line-height: normal\; font-family: Arial\; vertical-align: baseline\; bottom: auto\; clear: none\; color: rgb(94\, 42\, 43)\; content: normal\; direction: inherit\; empty-cells: show\; left: auto\; max-height: none\; max-width: none\; min-height: initial\; min-width: initial\; opacity: 1\; outline-offset: 0px\; overflow: visible\; position: static\; resize: none\; right: auto\; table-layout: auto\; text-align: center\; text-overflow: clip\; top: auto\; visibility: inherit\; word-break: inherit\; word-wrap: inherit\; z-index: auto\; background-image: none\; background-position: initial\; background-size: initial\; background-repeat: initial\; background-attachment: initial\; background-origin: initial\; background-clip: initial\; border-collapse: separate\; border-radius: 0px\; height: auto\; width: auto\; box-shadow: none\;">The Broomfield Chamber of Commerce is starting a new Young Professionals Group called&nbsp\;<span class="il" style="box-sizing: content-box\; margin: 0px\; padding: 0px\; border: none\; font-style: inherit\; font-variant: inherit\; font-weight: inherit\; font-stretch: inherit\; font-size: inherit\; line-height: inherit\; font-family: inherit\; vertical-align: baseline\; bottom: auto\; clear: none\; color: inherit\; content: normal\; direction: inherit\; display: inline\; empty-cells: show\; float: none\; left: auto\; letter-spacing: inherit\; max-height: none\; max-width: none\; min-height: initial\; min-width: initial\; opacity: 1\; outline-offset: 0px\; overflow: visible\; position: static\; resize: none\; right: auto\; table-layout: auto\; text-align: inherit\; text-indent: inherit\; text-overflow: clip\; text-transform: inherit\; top: auto\; visibility: inherit\; white-space: inherit\; word-break: inherit\; word-spacing: inherit\; word-wrap: inherit\; z-index: auto\; background: none\; border-collapse: separate\; border-radius: 0px\; height: auto\; width: auto\; box-shadow: none\;">HYPE</span>&nbsp\;(Helping Young Professionals Evolve). The group will focus on business education\, mentoring\, networking\, and helping local non profit organizations. The group is &nbsp\;for young professionals ages 21 - 39 in the Broomfield and&nbsp\;</span><span style="box-sizing: content-box\; margin: 0px\; padding: 0px\; border: none\; font-variant-numeric: inherit\; font-stretch: inherit\; font-size: 14.6667px\; line-height: normal\; font-family: Arial\; vertical-align: baseline\; bottom: auto\; clear: none\; color: rgb(94\, 42\, 43)\; content: normal\; direction: inherit\; empty-cells: show\; left: auto\; max-height: none\; max-width: none\; min-height: initial\; min-width: initial\; opacity: 1\; outline-offset: 0px\; overflow: visible\; position: static\; resize: none\; right: auto\; table-layout: auto\; text-align: center\; text-overflow: clip\; top: auto\; visibility: inherit\; word-break: inherit\; word-wrap: inherit\; z-index: auto\; background-image: none\; background-position: initial\; background-size: initial\; background-repeat: initial\; background-attachment: initial\; background-origin: initial\; background-clip: initial\; border-collapse: separate\; border-radius: 0px\; height: auto\; width: auto\; box-shadow: none\;">surrounding</span><span style="box-sizing: content-box\; margin: 0px\; padding: 0px\; border: none\; font-variant-numeric: inherit\; font-stretch: inherit\; font-size: 14.6667px\; line-height: normal\; font-family: Arial\; vertical-align: baseline\; bottom: auto\; clear: none\; color: rgb(94\, 42\, 43)\; content: normal\; direction: inherit\; empty-cells: show\; left: auto\; max-height: none\; max-width: none\; min-height: initial\; min-width: initial\; opacity: 1\; outline-offset: 0px\; overflow: visible\; position: static\; resize: none\; right: auto\; table-layout: auto\; text-align: center\; text-overflow: clip\; top: auto\; visibility: inherit\; word-break: inherit\; word-wrap: inherit\; z-index: auto\; background-image: none\; background-position: initial\; background-size: initial\; background-repeat: initial\; background-attachment: initial\; background-origin: initial\; background-clip: initial\; border-collapse: separate\; border-radius: 0px\; height: auto\; width: auto\; box-shadow: none\;">&nbsp\;area.&nbsp\;<span class="il" style="box-sizing: content-box\; margin: 0px\; padding: 0px\; border: none\; font-style: inherit\; font-variant: inherit\; font-weight: inherit\; font-stretch: inherit\; font-size: inherit\; line-height: inherit\; font-family: inherit\; vertical-align: baseline\; bottom: auto\; clear: none\; color: inherit\; content: normal\; direction: inherit\; display: inline\; empty-cells: show\; float: none\; left: auto\; letter-spacing: inherit\; max-height: none\; max-width: none\; min-height: initial\; min-width: initial\; opacity: 1\; outline-offset: 0px\; overflow: visible\; position: static\; resize: none\; right: auto\; table-layout: auto\; text-align: inherit\; text-indent: inherit\; text-overflow: clip\; text-transform: inherit\; top: auto\; visibility: inherit\; white-space: inherit\; word-break: inherit\; word-spacing: inherit\; word-wrap: inherit\; z-index: auto\; background: none\; border-collapse: separate\; border-radius: 0px\; height: auto\; width: auto\; box-shadow: none\;">HYPE</span>&nbsp\;will be open to Chamber members and non members alike. Join us Thursday\, February 9th at Emilio&#39\;s Almost Famous for a drink and to expand your network with other local young professionals. Price includes one drink ticket! Chamber members and non-members are welcome! Please register above!&nbsp\;</span>
LOCATION:Emilio's Almost Famous - 10081 Wadsworth Pkwy\, Westminster\, CO 80021
UID:e.641.11104
SEQUENCE:3
DTSTAMP:20260425T121901Z
URL:https://members.broomfieldchamber.com/events/details/hype-after-hours-a-young-professionals-group-11104
END:VEVENT

END:VCALENDAR
