BEGIN:VCALENDAR
VERSION:2.0
PRODID:-//ChamberMaster//Event Calendar 2.0//EN
METHOD:PUBLISH
X-PUBLISHED-TTL:P3D
REFRESH-INTERVAL:P3D
CALSCALE:GREGORIAN
BEGIN:VEVENT
DTSTART:20210612T180000Z
DTEND:20210612T230000Z
X-MICROSOFT-CDO-ALLDAYEVENT:FALSE
SUMMARY:HYPE: BrewHaHa Arista
DESCRIPTION:Please check the Broomfield City and County website for updates -  https://broomfield.org/2454/BrewHaHa\n\n\n\nThe Broomfield BrewHaHa takes place on Saturday\, June 12\, 2021\; 12 noon to 5 p.m. at Arista Park on Arista Place. The festival will have two bands\, food trucks\, brews from Broomfield Breweries\, yard games\, and more.\n\n\n\nHYPE (Helping Young Professionals Evolve) is excited to have a booth at the event! Stop by our booth to learn more about our young professionals group\, HYPE\, and have some fun!
X-ALT-DESC;FMTTYPE=text/html:Please check the Broomfield City and County website for updates -&nbsp\; https://broomfield.org/2454/BrewHaHa<br />\n<br />\nThe Broomfield BrewHaHa takes place on Saturday\, June 12\, 2021\; 12 noon to 5 p.m. at Arista Park on Arista Place. The festival will have two bands\, food trucks\, brews from Broomfield Breweries\, yard games\, and more.<br />\n<br />\nHYPE (Helping Young Professionals Evolve) is excited to have a booth at the&nbsp\;event! Stop by our booth to learn more about our young professionals group\, HYPE\, and have some fun!&nbsp\;
LOCATION:Arista Park on Arista Place
UID:e.641.16356
SEQUENCE:3
DTSTAMP:20260422T181317Z
URL:https://members.broomfieldchamber.com/events/details/hype-brewhaha-arista-16356
END:VEVENT

END:VCALENDAR
