BEGIN:VCALENDAR
VERSION:2.0
PRODID:-//ChamberMaster//Event Calendar 2.0//EN
METHOD:PUBLISH
X-PUBLISHED-TTL:P3D
REFRESH-INTERVAL:P3D
CALSCALE:GREGORIAN
BEGIN:VEVENT
DTSTART:20170817T230000Z
DTEND:20170818T013000Z
X-MICROSOFT-CDO-ALLDAYEVENT:FALSE
SUMMARY:HYPE Fundraiser for Broomfield FISH - Bowling at Chipper's!
DESCRIPTION:Get HYPE'd!  Bowl for FISH!\n\nAn evening of bowling and camaraderie to support Broomfield FISH. \n\n\n\nRSVP with your contact information soon - spaces are limited!\n\n    Chelsea Walters (chelsea@familyhearingco.com) 303-465-4327\n\n    Dayna Scott (dayna.scott@broomfieldfish.org) 303-460-6817\n\n    Shauna Gray (chippersevents@gmail.com) 970-488-0198
X-ALT-DESC;FMTTYPE=text/html:<span style="font-size:22px\;"><strong>Get HYPE&#39\;d! &nbsp\;Bowl for FISH!</strong></span><br />\nAn evening of bowling and camaraderie to support Broomfield FISH.&nbsp\;<br />\n<br />\nRSVP with your contact information soon - spaces are limited!<br />\n&nbsp\; &nbsp\; Chelsea Walters (chelsea@familyhearingco.com) 303-465-4327<br />\n&nbsp\; &nbsp\; Dayna Scott (dayna.scott@broomfieldfish.org) 303-460-6817<br />\n&nbsp\; &nbsp\; Shauna Gray (chippersevents@gmail.com) 970-488-0198
LOCATION:Chipper's Lanes 100 Nickel St. Broomfield\, CO
UID:e.641.11233
SEQUENCE:3
DTSTAMP:20260425T033649Z
URL:https://members.broomfieldchamber.com/events/details/hype-fundraiser-for-broomfield-fish-bowling-at-chipper-s-11233
END:VEVENT

END:VCALENDAR
