BEGIN:VCALENDAR
VERSION:2.0
PRODID:-//ChamberMaster//Event Calendar 2.0//EN
METHOD:PUBLISH
X-PUBLISHED-TTL:P3D
REFRESH-INTERVAL:P3D
CALSCALE:GREGORIAN
BEGIN:VEVENT
DTSTART:20260509T233000Z
DTEND:20260510T043500Z
X-MICROSOFT-CDO-ALLDAYEVENT:FALSE
SUMMARY:Join Us for Caribbean Nights – SPAN’s 45th Annual
DESCRIPTION:Safehouse Progressive Alliance for Nonviolence (SPAN) invites you to our 45th Annual Chocolate Lovers' Fling on Saturday\, May 9th at 5:30 PM for an unforgettable evening themed Caribbean Nights.\n\nThis beloved community event brings together local businesses\, leaders\, and supporters for a vibrant night featuring dinner\, decadent chocolates\, handcrafted cocktails\, live music\, and dancing with an internationally celebrated Zimbabwean musician\, Blessing Bled Chimanga Band\, an inspiring survivor speaker\, and exciting silent and live auctions.\n\nMore than just a fun evening\, the Chocolate Lovers' Fling raises critical funds to support SPAN's life-saving programs\, including emergency shelter\, counseling\, legal advocacy\, and community education for survivors of domestic violence and their families. \n\nLocal Businesses: We are currently seeking silent auction donations and sponsors to help make this event a success. For more information\, contact Christine Harrell\, Community Engagement & Marketing Manager at ChristineH@safehousealliance.org\n\nDessert Vendors: Interested in showcasing your chocolate\, cake\, or cupcakes? We offer complimentary vendor space. Vendors are asked to provide samples for approximately 350 attendees\, bring marketing materials\, and donate a silent auction item. *** Vending Opportunities are limited\, first-come\, first serve bases***\n\nFor more information\, contact Christine Harrell\, Community Engagement & Marketing Manager at ChristineH@safehousealliance.org\n\nTickets\, tables\, and sponsorship opportunities are available and are selling fast!! now. https://www.safehousealliance.org/upcoming-events/fling26/ \n\nCome celebrate\, connect with the community\, and support survivors while making a meaningful impact. We hope to see you there!
X-ALT-DESC;FMTTYPE=text/html:<p><strong>Safehouse Progressive Alliance for Nonviolence (SPAN) invites you to our 45th Annual Chocolate Lovers&rsquo\; Fling on Saturday\, May 9th at 5:30 PM for an unforgettable evening themed Caribbean Nights.</strong></p>\n\n<p>This beloved community event brings together local businesses\, leaders\, and supporters for a vibrant night featuring dinner\, decadent chocolates\, handcrafted cocktails\, live music\, and dancing with&nbsp\;<em>an internationally celebrated Zimbabwean musician\, Blessing Bled Chimanga Band</em>\, an inspiring survivor speaker\, and exciting silent and live auctions.</p>\n\n<p>More than just a fun evening\, the Chocolate Lovers&rsquo\; Fling raises critical funds to support SPAN&rsquo\;s life-saving programs\, including emergency shelter\, counseling\, legal advocacy\, and community education for survivors of domestic violence and their families.&nbsp\;</p>\n\n<p><strong><u>Local Businesses:</u></strong>&nbsp\;We are currently seeking silent auction donations and sponsors to help make this event a success. For more information\, contact <strong>Christine Harrell\, Community Engagement &amp\; Marketing Manager at ChristineH@safehousealliance.org</strong></p>\n\n<p><strong><u>Dessert Vendors</u></strong>: Interested in showcasing your chocolate\, cake\, or cupcakes? We offer complimentary vendor space. Vendors are asked to provide samples for approximately 350 attendees\, bring marketing materials\, and donate a silent auction item. <em><strong>*** Vending Opportunities are limited\, first-come\, first serve bases***</strong></em><br />\nFor more information\, contact <strong>Christine Harrell\, Community Engagement &amp\; Marketing Manager at ChristineH@safehousealliance.org</strong></p>\n\n<p><strong>Tickets\, tables\, and sponsorship opportunities are available and are selling fast!! now</strong>.<a href="http://https://www.safehousealliance.org/upcoming-events/fling26/">&nbsp\;</a><a href="https://www.safehousealliance.org/upcoming-events/fling26/" style="box-sizing: border-box\; background-color: transparent\; color: rgb(109\, 110\, 113)\; text-decoration-line: none\; cursor: pointer\; user-select: auto\;">https://www.safehousealliance.org/upcoming-events/fling26/&nbsp\;</a></p>\n\n<p>Come celebrate\, connect with the community\, and support survivors while making a meaningful impact. We hope to see you there!</p>\n
LOCATION:Omni Interlocken Hotel 500 Interlocken Blvd\, Broomfield\, CO 80021 To reserve a discounted room the night of the event\, click here.
UID:e.641.28936
SEQUENCE:3
DTSTAMP:20260422T120123Z
URL:https://members.broomfieldchamber.com/events/details/join-us-for-caribbean-nights-span-s-45th-annual-28936
END:VEVENT

END:VCALENDAR
