BEGIN:VCALENDAR
VERSION:2.0
PRODID:-//ChamberMaster//Event Calendar 2.0//EN
METHOD:PUBLISH
X-PUBLISHED-TTL:P3D
REFRESH-INTERVAL:P3D
CALSCALE:GREGORIAN
BEGIN:VEVENT
DTSTART:20170803T233000Z
DTEND:20170804T010000Z
X-MICROSOFT-CDO-ALLDAYEVENT:FALSE
SUMMARY:Manufacturers Roundtable Seminar
DESCRIPTION:Manufacturers Roundtable Seminar\nRepresentatives from the Colorado Office of Economic Development and Trade will be sharing information about the Advanced Industries Accelerator Programs. Learn about the various grant programs that can help your business\, from Proof of Concept grants to the Export Accelerator Program. These programs are designed to support job creation and innovation in the fields of advanced manufacturing\, aerospace\, bioscience\, electronics\, energy and natural resources\, infrastructure engineering\, and technology and information.
X-ALT-DESC;FMTTYPE=text/html:Manufacturers Roundtable Seminar\n<p>Representatives from the Colorado Office of Economic Development and Trade will be sharing information about the Advanced Industries Accelerator Programs. Learn about the various grant programs that can help your business\, from Proof of Concept grants to the Export Accelerator Program. These programs are designed to support job creation and innovation in the fields of advanced manufacturing\, aerospace\, bioscience\, electronics\, energy and natural resources\, infrastructure engineering\, and technology and information.</p>\n
LOCATION:Citywide Banks 2002 E Coalton Rd Broomfield CO 80027
UID:e.641.11243
SEQUENCE:3
DTSTAMP:20260425T033209Z
URL:https://members.broomfieldchamber.com/events/details/manufacturers-roundtable-seminar-08-03-2017-11243
END:VEVENT

END:VCALENDAR
