BEGIN:VCALENDAR
VERSION:2.0
PRODID:-//ChamberMaster//Event Calendar 2.0//EN
METHOD:PUBLISH
X-PUBLISHED-TTL:P3D
REFRESH-INTERVAL:P3D
CALSCALE:GREGORIAN
BEGIN:VEVENT
DTSTART:20181127T161500Z
DTEND:20181127T170000Z
X-MICROSOFT-CDO-ALLDAYEVENT:FALSE
SUMMARY:MSRC - Raising Cane's Grand Opening
DESCRIPTION:The Raising Cane's concept is simple and unique  they only have ONE LOVE   quality chicken finger meals! At Raising Cane's  you get an exceptionally high quality product served quickly and conveniently. They can do this because they offer a limited menu. The specialized systems developed by Raising Cane's  allows them to maintain a level of quality unmatched in the industry. Their commitment to this concept will not allow them to compromise their quality\, cut corners or clutter their menu with new products that do not fit the core menu offering.
X-ALT-DESC;FMTTYPE=text/html:<span style="color: rgb(0\, 0\, 0)\; font-family: Ruda\, sans-serif\; font-size: 16px\;">The Raising Cane&#39\;s concept is simple and unique&hellip\; they only have ONE LOVE &ndash\; quality chicken finger meals! At Raising Cane&rsquo\;s&reg\;&nbsp\;you get an exceptionally high quality product served quickly and conveniently. They can do this because they offer a limited menu. The specialized systems developed by Raising Cane&rsquo\;s&reg\;&nbsp\;allows them to maintain a level of quality unmatched in the industry. Their commitment to this concept will not allow them to compromise their quality\, cut corners or clutter their menu with new products that do not fit the core menu offering.</span>
LOCATION:4640 W 121st Avenue Broomfield\, CO
UID:e.641.13386
SEQUENCE:3
DTSTAMP:20260422T181420Z
URL:https://members.broomfieldchamber.com/events/details/msrc-raising-cane-s-grand-opening-13386
END:VEVENT

END:VCALENDAR
