BEGIN:VCALENDAR
VERSION:2.0
PRODID:-//ChamberMaster//Event Calendar 2.0//EN
METHOD:PUBLISH
X-PUBLISHED-TTL:P3D
REFRESH-INTERVAL:P3D
CALSCALE:GREGORIAN
BEGIN:VEVENT
DTSTART:20240212T193000Z
DTEND:20240212T210000Z
X-MICROSOFT-CDO-ALLDAYEVENT:FALSE
SUMMARY:NEW Power Partners Networking - Health & Wellness
DESCRIPTION:Do you want a chance to network with professionals in industries that help you the most? Do you want to just get more networking in? Well\, here is your opportunity. Join the Broomfield Area Chamber\, and your fellow professionals in complimentary industries to yours\, for Power Partners Networking! \n\n\n\nThis event is for our Health & Wellness group. If your business is focused on helping others improve their mental and physical health\, and build healthy habits\, this is the group for you. For any questions related to this event\, please reach out to the Membership Director\, Jordan Meadows\, or the Health & Wellness Coordinators\, Natalie Brockeveldt and Breana Koffler.\n\n\n\n**** REGISTRATION IS REQUIRED ****
X-ALT-DESC;FMTTYPE=text/html:Do you want a chance to network with professionals in industries that help you the most? Do you want to just get more networking in? Well\, here is your opportunity. Join the Broomfield Area Chamber\, and your fellow professionals in complimentary industries to yours\, for Power Partners Networking!&nbsp\;<br />\n<br />\nThis event is for our Health &amp\; Wellness group. If your business is focused on helping others improve their mental and physical health\, and build healthy habits\, this is the group for you. For any questions related to this event\, please reach out to the Membership Director\, Jordan Meadows\, or the Health &amp\; Wellness Coordinators\, <a href="mailto:nataliesnutrifit@gmail.com?subject=Health%20%26%20Wellness%20Power%20Partners%20Networking%20Inquiry">Natalie Brockeveldt</a> and <a href="mailto:bree@fortitudept.com?subject=Health%20%26%20Wellness%20Power%20Partners%20Networking%20Inquiry">Breana Koffler</a>.<br />\n<br />\n<strong><span style="color:#000000\;">**** REGISTRATION IS REQUIRED ****</span></strong>
LOCATION:Nutri-fit by Natalie
UID:e.641.22661
SEQUENCE:3
DTSTAMP:20260423T175307Z
URL:https://members.broomfieldchamber.com/events/details/new-power-partners-networking-health-wellness-22661
END:VEVENT

END:VCALENDAR
