BEGIN:VCALENDAR
VERSION:2.0
PRODID:-//ChamberMaster//Event Calendar 2.0//EN
METHOD:PUBLISH
X-PUBLISHED-TTL:P3D
REFRESH-INTERVAL:P3D
CALSCALE:GREGORIAN
BEGIN:VEVENT
DTSTART:20240228T000000Z
DTEND:20240228T020000Z
X-MICROSOFT-CDO-ALLDAYEVENT:FALSE
SUMMARY:NEW Power Partners Networking - Solopreneur Social
DESCRIPTION:Are you a solopreneur looking to network with other solopreneurs? Are you trying to build your business\, but have pain points that other solopreneurs may be able to help you out with? No matter your industry\, if you're a solopreneur\, this is the networking group for you! For any questions related to this event\, please reach out to the Membership Director\, Jordan Meadows\, or the Solopreneur Social Coordinators\, Kat Reisenbigler and Eva Safar.\n\n\n\n****REGISTRATION IS REQUIRED ****
X-ALT-DESC;FMTTYPE=text/html:Are you a solopreneur looking to network with other solopreneurs? Are you trying to build your business\, but have pain points that other solopreneurs may be able to help you out with? No matter your industry\, if you&#39\;re a solopreneur\, this is the networking group for you! For any questions related to this event\, please reach out to the Membership Director\, Jordan Meadows\, or the Solopreneur Social Coordinators\, <a href="mailto:kat@katmaedesigns.com?subject=Solopreneur%20Social%20Group">Kat Reisenbigler</a> and <a href="mailto:eva@tabdenvernorth.com?subject=Solopreneur%20Social%20Group">Eva Safar</a>.<br />\n<br />\n<strong>****REGISTRATION IS REQUIRED ****</strong>
LOCATION:Kokopelli Beer Company
UID:e.641.22786
SEQUENCE:3
DTSTAMP:20260423T175150Z
URL:https://members.broomfieldchamber.com/events/details/new-power-partners-networking-solopreneur-social-22786
END:VEVENT

END:VCALENDAR
