BEGIN:VCALENDAR
VERSION:2.0
PRODID:-//ChamberMaster//Event Calendar 2.0//EN
METHOD:PUBLISH
X-PUBLISHED-TTL:P3D
REFRESH-INTERVAL:P3D
CALSCALE:GREGORIAN
BEGIN:VEVENT
DTSTART:20210611T223000Z
DTEND:20210612T000000Z
X-MICROSOFT-CDO-ALLDAYEVENT:FALSE
SUMMARY:Pints with Pat (Week 2)
DESCRIPTION:Come join us for the Chamber's casual happy hour. Open to members and non members. Come reconnect with colleagues or make new friends. Network\, and start your weekend right! This week\, we'll be at Colorado Keg House. There is no charge to attend\, and no pre-registration necessary. We hope to see you there!
X-ALT-DESC;FMTTYPE=text/html:<div id="i4c-draggable-container" style="position: fixed\; z-index: 1499\; width: 0px\; height: 0px\;">\n<div class="resolved" data-reactroot="" style="all: initial\;">&nbsp\;</div>\n</div>\nCome join us for the Chamber&#39\;s casual happy hour. Open to members and non members. Come reconnect with colleagues or make new friends. Network\, and start your weekend right! This week\, we&#39\;ll be at Colorado Keg House. There is no charge to attend\, and no pre-registration necessary. We hope to see you there!\n\n<div id="i4c-dialogs-container">&nbsp\;</div>\n
LOCATION:8001 Arista Pl\, Unit 110 Broomfield\, CO\, CO 80021
UID:e.641.16375
SEQUENCE:3
DTSTAMP:20260422T181317Z
URL:https://members.broomfieldchamber.com/events/details/pints-with-pat-week-2-06-11-2021-16375
END:VEVENT

END:VCALENDAR
