BEGIN:VCALENDAR
VERSION:2.0
PRODID:-//ChamberMaster//Event Calendar 2.0//EN
METHOD:PUBLISH
X-PUBLISHED-TTL:P3D
REFRESH-INTERVAL:P3D
CALSCALE:GREGORIAN
BEGIN:VEVENT
DTSTART:20180927T141500Z
DTEND:20180927T160000Z
X-MICROSOFT-CDO-ALLDAYEVENT:FALSE
SUMMARY:Planning and Prioritizing with Leigh-Ann Zaharevich
DESCRIPTION:Successful projects require excellent planning. In this workshop you will explore the many factors that impact the setting of realistic deadlines. Bring a list of your active projects to practice real-time using a very easy tool to prioritize them. You will learn how to engage others in managing your time and priorities. Take away tips and techniques to use when planning to ensure you don't over-commit.\n\nwww.AlignedPerformance.com
X-ALT-DESC;FMTTYPE=text/html:<p>Successful projects require excellent planning. In this workshop you will explore the many factors that impact the setting of realistic deadlines. Bring a list of your active projects to practice real-time using a very easy tool to prioritize them. You will learn how to engage others in managing your time and priorities. Take away tips and techniques to use when planning to ensure you don&rsquo\;t over-commit.</p>\n\n<p><a href="http://www.alignedperformance.com/" style="box-sizing: border-box\; margin: 0px\; padding: 0px\; border: 0px\; outline: 0px\; background: 0px 0px\; vertical-align: baseline\; text-size-adjust: 100%\; color: rgb(177\, 152\, 50)\; text-decoration-line: none\;">www.AlignedPerformance.com</a></p>\n
LOCATION:arielMIS\, Inc 1017 E South Boulder Road Ste B Louisville\, CO 80027
UID:e.641.13371
SEQUENCE:3
DTSTAMP:20260422T213757Z
URL:https://members.broomfieldchamber.com/events/details/planning-and-prioritizing-with-leigh-ann-zaharevich-13371
END:VEVENT

END:VCALENDAR
