BEGIN:VCALENDAR
VERSION:2.0
PRODID:-//ChamberMaster//Event Calendar 2.0//EN
METHOD:PUBLISH
X-PUBLISHED-TTL:P3D
REFRESH-INTERVAL:P3D
CALSCALE:GREGORIAN
BEGIN:VEVENT
DTSTART:20240216T233000Z
DTEND:20240217T010000Z
X-MICROSOFT-CDO-ALLDAYEVENT:FALSE
SUMMARY:Power Partners Networking - Business Services
DESCRIPTION:Do you want a chance to network with professionals in industries that help you the most? Do you want to just get more networking in? Well\, here is your opportunity. Join the Broomfield Area Chamber\, and your fellow professionals in complimentary industries to yours\, for Power Partners Networking! \n\n\n\nThis event is for our Business Services group. If your business is geared towards products and services for businesses\, this is the category for you. For any questions related to this event\, please reach out to the Membership Director\, Jordan Meadows\, or the Business Services Coordinator\, Joe Diele.\n\n\n\n**** REGISTRATION IS REQUIRED ****\n\n\n\nAgenda\n\nIntroductions (15 min)\n\nMember Business Overview (10 min)\nGroup Networking
X-ALT-DESC;FMTTYPE=text/html:<div style="font-size: 14px\;"><span style="font-family:tahoma\;">Do you want a chance to network with professionals in industries that help you the most? Do you want to just get more networking in? Well\, here is your opportunity. Join the Broomfield Area Chamber\, and your fellow professionals in complimentary industries to yours\, for Power Partners Networking!&nbsp\;<br />\n<br />\nThis event is for our Business Services group. If your business is geared towards products and services for businesses\, this is the category for you. For any questions related to this event\, please reach out to the Membership Director\, Jordan Meadows\, or the Business Services Coordinator\, <a href="mailto:joe@dieleconsulting.com?subject=Business%20Services%20Inquiry">Joe Diele</a>.<br />\n<br />\n<strong>**** REGISTRATION IS REQUIRED ****</strong><br />\n<br />\n<strong><u>Agenda</u></strong></span></div>\n\n<p style="font-size: 14px\;"><span style="font-family:tahoma\;">Introductions (15 min)</span></p>\n\n<p style="font-size: 14px\;"><span style="font-family:tahoma\;">Member Business Overview (10 min)</span></p>\n<span style="font-size:14px\;"><span style="font-family:tahoma\;">Group Networking</span></span>
LOCATION:Quinto Neighborhood Pizzeria & Taphouse
UID:e.641.22644
SEQUENCE:3
DTSTAMP:20260423T175137Z
URL:https://members.broomfieldchamber.com/events/details/power-partners-networking-business-services-22644
END:VEVENT

END:VCALENDAR
