BEGIN:VCALENDAR
VERSION:2.0
PRODID:-//ChamberMaster//Event Calendar 2.0//EN
METHOD:PUBLISH
X-PUBLISHED-TTL:P3D
REFRESH-INTERVAL:P3D
CALSCALE:GREGORIAN
BEGIN:VEVENT
DTSTART:20260509T190000Z
DTEND:20260509T210000Z
X-MICROSOFT-CDO-ALLDAYEVENT:FALSE
SUMMARY:Ribbon Cutting & Open House - Church Ranch Event Center
DESCRIPTION:Join the Broomfield Area Chamber and Church Ranch Event Center\, as we celebrate their Open House and Ribbon Cutting ceremony! \n\nJoin us for an afternoon of inspiration and connection! Whether you've celebrated with us before\, are currently planning your big day\, or are looking for the perfect backdrop for your next corporate gala\, we invite you to our Spring Open House. See the venue transformed with curated setups for both weddings and corporate events. Meet our hand-picked preferred vendors\, sample delicious appetizers\, and enjoy a cocktail while exploring our lush grounds.\n\n\n\n****Ribbon Will Be Cut at 1:30PM****\n\n\n\nAbout Church Ranch Event Center:\n\nChurch Ranch Event Center is a multi purpose event venue located on the border of Broomfield and Westminster. This event center hosts a variety of events including weddings\, meetings\, anniversaries\, parties and much more. Our mission is to provide a beautiful event venue and full service planning to anyone hosting an event.
X-ALT-DESC;FMTTYPE=text/html:<span style="font-size:14px\;"><span style="font-family:verdana\;">Join the Broomfield Area Chamber and </span></span><!--StartFragment--><span data-olk-copy-source="MessageBody" style="font-size: 12pt\; font-family: Aptos\, sans-serif\; margin: 0px\;">Church Ranch Event Center\,</span><span style="font-size:14px\;"><span style="font-family:verdana\;">&nbsp\;as we celebrate their Open House and Ribbon Cutting ceremony!&nbsp\;</span></span><br />\n<!--StartFragment--><span data-olk-copy-source="MessageBody" style="font-size: 12pt\; font-family: Aptos\, sans-serif\; margin: 0px\;">Join us for an afternoon of inspiration and connection! Whether you&rsquo\;ve celebrated with us before\, are currently planning your big day\, or are looking for the perfect backdrop for your next corporate gala\, we invite you to our Spring Open House. See the venue transformed with curated setups for both weddings and corporate events. Meet our hand-picked preferred vendors\, sample delicious appetizers\, and enjoy a cocktail while exploring our lush grounds.</span><!--EndFragment--><br />\n<br />\n<span style="font-size:14px\;"><span style="font-family:verdana\;"><!--EndFragment--><strong>****Ribbon Will Be Cut at 1:30PM****</strong><br />\n<br />\n<u>About Church Ranch Event Center:</u><br />\n<!--StartFragment--></span></span><!--StartFragment--><span data-olk-copy-source="MessageBody" style="font-size: 12pt\; font-family: Aptos\, sans-serif\; margin: 0px\;">Church Ranch Event Center is a multi purpose event venue located on the border of Broomfield and Westminster. This event center hosts a variety of events including weddings\, meetings\, anniversaries\, parties and much more. Our mission is to provide a beautiful event venue and full service planning to anyone hosting an event.</span><!--EndFragment--><!--EndFragment-->
LOCATION:10200 Wadsworth Blvd Westminster CO 80021
UID:e.641.29173
SEQUENCE:3
DTSTAMP:20260421T234008Z
URL:https://members.broomfieldchamber.com/events/details/ribbon-cutting-open-house-church-ranch-event-center-29173
END:VEVENT

END:VCALENDAR
