BEGIN:VCALENDAR
VERSION:2.0
PRODID:-//ChamberMaster//Event Calendar 2.0//EN
METHOD:PUBLISH
X-PUBLISHED-TTL:P3D
REFRESH-INTERVAL:P3D
CALSCALE:GREGORIAN
BEGIN:VEVENT
DTSTART:20171110T000000Z
DTEND:20171110T020000Z
X-MICROSOFT-CDO-ALLDAYEVENT:FALSE
SUMMARY:SMALL BUSINESS Expo After Hours
DESCRIPTION:This Business Expo After Hours is a great way to learn more about the businesses in the Broomfield and surrounding communities.  Thank you to Citywide Banks for hosting. All business owners are invited to enjoy great food provided by Organic Roots Catering\, while you network and visit over 25 information tables. It will be time well spent as we are joined by the members of the Superior and Louisville Chambers.
X-ALT-DESC;FMTTYPE=text/html:<span style="color:#000000\;"><span style="font-size:14px\;"><span class="m_-1859233129366213488m_7916325438894018963cmeditorfix" style="font-family: arial\, sans-serif\;"><span style="font-family: Arial\, sans-serif\; border: 1pt none windowtext\; padding: 0in\;">This</span></span><span class="m_-1859233129366213488m_7916325438894018963apple-converted-space" style="font-family: arial\, sans-serif\;"><span style="font-family: Arial\, sans-serif\; border: 1pt none windowtext\; padding: 0in\;">&nbsp\;</span></span><span style="font-family: Arial\, sans-serif\; border: 1pt none windowtext\; padding: 0in\;">Business Expo After Hours is<span class="m_-1859233129366213488m_7916325438894018963cmeditorfix">&nbsp\;a great way to learn more about the businesses in the Broomfield and surrounding communities.&nbsp\; Thank you to</span><span class="m_-1859233129366213488m_7916325438894018963apple-converted-space">&nbsp\;Citywide Banks&nbsp\;</span><span class="m_-1859233129366213488m_7916325438894018963cmeditorfix">for hosting. All business owners are invited to enjoy great food provided by Organic Roots Catering\, while you network and visit over 25 information tables. </span><span class="m_-1859233129366213488m_7916325438894018963cmeditorfix">It will be time well spent as we are joined by the members of the Superior and Louisville Chambers.&nbsp\;</span></span></span></span>
LOCATION:2002 E Coalton Road Broomfield\, CO
UID:e.641.11669
SEQUENCE:3
DTSTAMP:20260424T231141Z
URL:https://members.broomfieldchamber.com/events/details/small-business-expo-after-hours-11669
END:VEVENT

END:VCALENDAR
