BEGIN:VCALENDAR
VERSION:2.0
PRODID:-//ChamberMaster//Event Calendar 2.0//EN
METHOD:PUBLISH
X-PUBLISHED-TTL:P3D
REFRESH-INTERVAL:P3D
CALSCALE:GREGORIAN
BEGIN:VEVENT
DTSTART:20210323T210000Z
DTEND:20210323T214500Z
X-MICROSOFT-CDO-ALLDAYEVENT:FALSE
SUMMARY:Suculentas y El Autocuidado
DESCRIPTION:Manejando El Estr s y La Ansiedad desde El Hogar\n\nReg strese: https://www.eventbrite.com/e/suculentas-y-el-autocuidado-tickets-137472161937?aff=ebdsoporgprofile \n\n\n\nSe le invita a una breve discusi n sobre el cuidado de las plantas y c mo eso contribuye al autocuidado y al cuidado de los dem s.\n\n\n\n\n\n\nC mo Unirse: Reg strese para el evento con anticipaci n para obtener un link y una contrase a de Zoom. Siga el link e ingrese la contrase a a la hora del evento para unirse a la videoconferencia. Lo mejor es usar una computadora pero no es necesario. Tampoco es necesario tener una cuenta de Zoom\, pero si ya la tiene puede usarla o puede crear una cuenta antes del evento en http://zoom.us\n\nPrecio: gratis!\n\nDescargo de Responsabilidad: Registrarse y unirse a esta reuni n de Zoom es voluntario y confidencial. Los participantes no recibir n atenci n cl nica o m dica y deben llamar a la l nea de crisis 24/7 al (844) 493-8255 en caso de emergencia.
X-ALT-DESC;FMTTYPE=text/html:<div>\n<div>\n<div>\n<div><strong>Manejando El Estr&eacute\;s y La Ansiedad desde El Hogar</strong><br />\nReg&iacute\;strese:&nbsp\;https://www.eventbrite.com/e/suculentas-y-el-autocuidado-tickets-137472161937?aff=ebdsoporgprofile&nbsp\;<br />\n<br />\nSe le invita a una breve discusi&oacute\;n sobre el cuidado de las plantas y c&oacute\;mo eso contribuye al autocuidado y al cuidado de los dem&aacute\;s.</div>\n</div>\n</div>\n</div>\n\n<div>\n<div>\n<p><strong>C&oacute\;mo Unirse</strong>: Reg&iacute\;strese para el evento con anticipaci&oacute\;n para obtener un link y una contrase&ntilde\;a de Zoom. Siga el link e ingrese la contrase&ntilde\;a a la hora del evento para unirse a la videoconferencia. Lo mejor es usar una computadora pero no es necesario. Tampoco es necesario tener una cuenta de Zoom\, pero si ya la tiene puede usarla o puede crear una cuenta antes del evento en http://zoom.us</p>\n\n<p><strong>Precio:</strong>&nbsp\;gratis!</p>\n\n<p><strong>Descargo de Responsabilidad:</strong>&nbsp\;Registrarse y unirse a esta reuni&oacute\;n de Zoom es voluntario y confidencial. Los participantes no recibir&aacute\;n atenci&oacute\;n cl&iacute\;nica o m&eacute\;dica y deben llamar a la l&iacute\;nea de crisis 24/7 al (844) 493-8255 en caso de emergencia.</p>\n</div>\n</div>\n
LOCATION:Online Zoom Event
UID:e.641.16313
SEQUENCE:3
DTSTAMP:20260422T120119Z
URL:https://members.broomfieldchamber.com/events/details/suculentas-y-el-autocuidado-16313
END:VEVENT

END:VCALENDAR
