BEGIN:VCALENDAR
VERSION:2.0
PRODID:-//ChamberMaster//Event Calendar 2.0//EN
METHOD:PUBLISH
X-PUBLISHED-TTL:P3D
REFRESH-INTERVAL:P3D
CALSCALE:GREGORIAN
BEGIN:VEVENT
DTSTART:20210423T223000Z
DTEND:20210424T000000Z
X-MICROSOFT-CDO-ALLDAYEVENT:FALSE
SUMMARY:Suds With Sam
DESCRIPTION:Join us for our ultra casual happy hour\, Suds With Sam. This Friday\, 4/23\, at Mother Tucker Brewing's Thornton location. Help us support this Chamber member\, and enjoy re-connecting with friends or meeting new folks.\n\n \n\nAlso\, because Sam likes to give away a beer now and then...the first person to tell Sam the free beer code will get a pint on him. We hope to see you there!
X-ALT-DESC;FMTTYPE=text/html:<span style="color:black\;"><span style="font-family:arial\,sans-serif\;"><span style="font-size:10.5pt\;">Join us for our ultra casual happy hour\, Suds With Sam. This Friday\, 4/23\, at Mother Tucker Brewing&#39\;s Thornton location. Help us support this Chamber member\, and enjoy re-connecting with friends or meeting new folks.</span></span></span><br />\n&nbsp\;<br />\n<span style="color:black\;"><span style="font-family:arial\,sans-serif\;"><span style="font-size:10.5pt\;">Also\, because Sam likes to give away a beer now and then...the first person to tell Sam the free beer code will get a pint on him. We hope to see you there!</span></span></span>
LOCATION:Mother Tucker Brewery 2360 E.120th\, Thornton
UID:e.641.16348
SEQUENCE:3
DTSTAMP:20260422T133714Z
URL:https://members.broomfieldchamber.com/events/details/suds-with-sam-16348
END:VEVENT

END:VCALENDAR
