BEGIN:VCALENDAR
VERSION:2.0
PRODID:-//ChamberMaster//Event Calendar 2.0//EN
METHOD:PUBLISH
X-PUBLISHED-TTL:P3D
REFRESH-INTERVAL:P3D
CALSCALE:GREGORIAN
BEGIN:VEVENT
DTSTART:20170830T153000Z
DTEND:20170830T170000Z
X-MICROSOFT-CDO-ALLDAYEVENT:FALSE
SUMMARY:TOWN HALL MEETING with Representative Jared Polis\, D-CD2
DESCRIPTION:You are cordially invited to join the Broomfield Chamber of Commerce for a Town Hall Meeting with Representative Jared Polis (D-CD2) to discuss issues of concern to the Broomfield area business community.  Please come prepared to share your questions and/or topics of concern with Representative Polis and other members of the chamber and community.  This event is open to both members and non-members\, so be sure to tell your friends and neighbors! Registration is limited\, so reserve your spot soon!
X-ALT-DESC;FMTTYPE=text/html:You are cordially invited to join the Broomfield Chamber of Commerce for a Town Hall Meeting with Representative Jared Polis (D-CD2) to discuss issues of concern to the Broomfield area business community. &nbsp\;Please come prepared to share your questions and/or topics of concern with Representative Polis and other members of the chamber and community. &nbsp\;This event is open to both members and non-members\, so be sure to tell your friends and neighbors! Registration is limited\, so reserve your spot soon!
LOCATION:Renaissance Boulder Flatiron 500 Flatiron Blvd. Broomfield\, CO 80021
UID:e.641.11647
SEQUENCE:3
DTSTAMP:20260425T033419Z
URL:https://members.broomfieldchamber.com/events/details/town-hall-meeting-with-representative-jared-polis-d-cd2-11647
END:VEVENT

END:VCALENDAR
