BEGIN:VCALENDAR
VERSION:2.0
PRODID:-//ChamberMaster//Event Calendar 2.0//EN
METHOD:PUBLISH
X-PUBLISHED-TTL:P3D
REFRESH-INTERVAL:P3D
CALSCALE:GREGORIAN
BEGIN:VEVENT
DTSTART:20180301T020000Z
DTEND:20180301T040000Z
X-MICROSOFT-CDO-ALLDAYEVENT:FALSE
SUMMARY:Up with People "Live on Tour"
DESCRIPTION:Up with People empowers the youth to be positive agents of change through music and actions in hopes to build a more hopeful trusting and peaceful world! 100 participants from 20 different countries will serve 1\,000 hours of volunteer work in the Broomfield area and perform our professional show on March 1st at Broomfield High School at 7pm. The show has different styles of music and dances that include original melodies\, familiar hits\, cultural songs and dances\, all hit the message of keeping hope alive. 100% of the proceeds from the Broomfield show will benefit the Broomfield Community Foundation!
X-ALT-DESC;FMTTYPE=text/html:Up with People empowers the youth to be positive agents of change through music and actions in hopes to build a more hopeful trusting and peaceful world! 100 participants from 20 different countries will serve 1\,000 hours of volunteer work in the Broomfield area and perform our professional show on March 1st at Broomfield High School at 7pm. The show has different styles of music and dances that include original melodies\, familiar hits\, cultural songs and dances\, all hit the message of keeping hope alive. 100% of the proceeds from the Broomfield show will benefit the Broomfield Community Foundation!
LOCATION:Broomfield High School auditorium
UID:e.641.11768
SEQUENCE:3
DTSTAMP:20260424T191037Z
URL:https://members.broomfieldchamber.com/events/details/up-with-people-live-on-tour-11768
END:VEVENT

END:VCALENDAR
